Package: scBubbletree Version: 1.9.0 Command: /Library/Frameworks/R.framework/Resources/bin/R CMD INSTALL scBubbletree StartedAt: 2025-02-09 15:32:57 -0500 (Sun, 09 Feb 2025) EndedAt: 2025-02-09 15:33:23 -0500 (Sun, 09 Feb 2025) EllapsedTime: 25.8 seconds RetCode: 0 Status: OK