Package: scBubbletree Version: 1.9.0 Command: /home/biocbuild/bbs-3.21-bioc/R/bin/R CMD build --keep-empty-dirs --no-resave-data scBubbletree StartedAt: 2025-02-12 19:01:28 -0500 (Wed, 12 Feb 2025) EndedAt: 2025-02-12 19:06:33 -0500 (Wed, 12 Feb 2025) EllapsedTime: 304.4 seconds RetCode: 0 Status: OK PackageFile: scBubbletree_1.9.0.tar.gz PackageFileSize: 4.651 MiB