Package: scBubbletree Version: 1.9.0 Command: rm -rf scBubbletree.buildbin-libdir && mkdir scBubbletree.buildbin-libdir && E:\biocbuild\bbs-3.21-bioc\R\bin\R.exe CMD INSTALL --build --library=scBubbletree.buildbin-libdir scBubbletree_1.9.0.tar.gz StartedAt: 2025-02-10 08:38:09 -0500 (Mon, 10 Feb 2025) EndedAt: 2025-02-10 08:39:24 -0500 (Mon, 10 Feb 2025) EllapsedTime: 75.3 seconds RetCode: 0 Status: OK PackageFile: scBubbletree_1.9.0.zip PackageFileSize: 2.07 MiB