Package: scBubbletree Version: 1.9.0 Command: chmod a+r scBubbletree -R && E:\biocbuild\bbs-3.21-bioc\R\bin\R.exe CMD build --keep-empty-dirs --no-resave-data scBubbletree StartedAt: 2025-02-09 21:24:26 -0500 (Sun, 09 Feb 2025) EndedAt: 2025-02-09 21:31:31 -0500 (Sun, 09 Feb 2025) EllapsedTime: 425.0 seconds RetCode: 0 Status: OK PackageFile: scBubbletree_1.9.0.tar.gz PackageFileSize: 3.905 MiB