Package: scCB2 Version: 1.17.0 Command: /Library/Frameworks/R.framework/Resources/bin/R CMD build --keep-empty-dirs --no-resave-data scCB2 StartedAt: 2025-02-03 18:06:26 -0500 (Mon, 03 Feb 2025) EndedAt: 2025-02-03 18:07:59 -0500 (Mon, 03 Feb 2025) EllapsedTime: 93.0 seconds RetCode: 0 Status: OK PackageFile: scCB2_1.17.0.tar.gz PackageFileSize: 847.2 KiB