Package: scCB2 Version: 1.17.0 Command: /Library/Frameworks/R.framework/Resources/bin/R CMD INSTALL scCB2 StartedAt: 2025-02-09 15:20:47 -0500 (Sun, 09 Feb 2025) EndedAt: 2025-02-09 15:21:03 -0500 (Sun, 09 Feb 2025) EllapsedTime: 16.2 seconds RetCode: 0 Status: OK