Package: scCB2 Version: 1.17.0 Command: /home/biocbuild/R/R/bin/R CMD INSTALL scCB2 StartedAt: 2025-01-29 20:17:36 -0000 (Wed, 29 Jan 2025) EndedAt: 2025-01-29 20:18:34 -0000 (Wed, 29 Jan 2025) EllapsedTime: 58.0 seconds RetCode: 0 Status: OK