Package: scCB2 Version: 1.17.0 Command: /Library/Frameworks/R.framework/Resources/bin/R CMD check --install=check:scCB2.install-out.txt --library=/Library/Frameworks/R.framework/Resources/library --no-vignettes --timings scCB2_1.17.0.tar.gz StartedAt: 2025-02-03 23:04:49 -0500 (Mon, 03 Feb 2025) EndedAt: 2025-02-03 23:11:55 -0500 (Mon, 03 Feb 2025) EllapsedTime: 425.6 seconds RetCode: 0 Status: OK CheckDir: scCB2.Rcheck Warnings: 0