Package: scCB2 Version: 1.17.0 Command: /Library/Frameworks/R.framework/Resources/bin/R CMD INSTALL scCB2 StartedAt: 2025-02-09 15:32:56 -0500 (Sun, 09 Feb 2025) EndedAt: 2025-02-09 15:33:52 -0500 (Sun, 09 Feb 2025) EllapsedTime: 55.5 seconds RetCode: 0 Status: OK