Package: scCB2 Version: 1.17.0 Command: /home/biocbuild/bbs-3.21-bioc/R/bin/R CMD build --keep-empty-dirs --no-resave-data scCB2 StartedAt: 2025-02-03 19:14:16 -0500 (Mon, 03 Feb 2025) EndedAt: 2025-02-03 19:17:55 -0500 (Mon, 03 Feb 2025) EllapsedTime: 218.2 seconds RetCode: 0 Status: OK PackageFile: scCB2_1.17.0.tar.gz PackageFileSize: 847.3 KiB