Package: scCB2 Version: 1.17.0 Command: /home/biocbuild/bbs-3.21-bioc/R/bin/R CMD check --install=check:scCB2.install-out.txt --library=/home/biocbuild/bbs-3.21-bioc/R/site-library --timings scCB2_1.17.0.tar.gz StartedAt: 2025-02-10 02:15:26 -0500 (Mon, 10 Feb 2025) EndedAt: 2025-02-10 02:25:44 -0500 (Mon, 10 Feb 2025) EllapsedTime: 618.7 seconds RetCode: 0 Status: OK CheckDir: scCB2.Rcheck Warnings: 0