Package: scCB2 Version: 1.17.0 Command: /home/biocbuild/bbs-3.21-bioc/R/bin/R CMD INSTALL scCB2 StartedAt: 2025-02-09 15:36:06 -0500 (Sun, 09 Feb 2025) EndedAt: 2025-02-09 15:36:48 -0500 (Sun, 09 Feb 2025) EllapsedTime: 41.4 seconds RetCode: 0 Status: OK