Package: scCB2 Version: 1.17.0 Command: rm -rf scCB2.buildbin-libdir && mkdir scCB2.buildbin-libdir && E:\biocbuild\bbs-3.21-bioc\R\bin\R.exe CMD INSTALL --build --library=scCB2.buildbin-libdir scCB2_1.17.0.tar.gz StartedAt: 2025-02-04 08:51:27 -0500 (Tue, 04 Feb 2025) EndedAt: 2025-02-04 08:52:14 -0500 (Tue, 04 Feb 2025) EllapsedTime: 47.3 seconds RetCode: 0 Status: OK PackageFile: scCB2_1.17.0.zip PackageFileSize: 894.5 KiB