Package: scCB2 Version: 1.17.0 Command: chmod a+r scCB2 -R && E:\biocbuild\bbs-3.21-bioc\R\bin\R.exe CMD build --keep-empty-dirs --no-resave-data scCB2 StartedAt: 2025-02-03 21:37:53 -0500 (Mon, 03 Feb 2025) EndedAt: 2025-02-03 21:42:45 -0500 (Mon, 03 Feb 2025) EllapsedTime: 292.3 seconds RetCode: 0 Status: OK PackageFile: scCB2_1.17.0.tar.gz PackageFileSize: 847.3 KiB