Package: scCB2 Version: 1.17.0 Command: E:\biocbuild\bbs-3.21-bioc\R\bin\R.exe CMD check --no-multiarch --install=check:scCB2.install-out.txt --library=E:\biocbuild\bbs-3.21-bioc\R\library --no-vignettes --timings scCB2_1.17.0.tar.gz StartedAt: 2025-02-04 05:30:16 -0500 (Tue, 04 Feb 2025) EndedAt: 2025-02-04 05:38:05 -0500 (Tue, 04 Feb 2025) EllapsedTime: 468.6 seconds RetCode: 0 Status: OK CheckDir: scCB2.Rcheck Warnings: 0