Package: scDD Version: 1.31.0 Command: rm -rf scDD.buildbin-libdir && mkdir scDD.buildbin-libdir && /Users/biocbuild/BBS/utils/build-universal.sh scDD_1.31.0.tar.gz /Library/Frameworks/R.framework/Resources/bin/R scDD.buildbin-libdir StartedAt: 2025-02-13 00:56:57 -0500 (Thu, 13 Feb 2025) EndedAt: 2025-02-13 00:57:46 -0500 (Thu, 13 Feb 2025) EllapsedTime: 49.3 seconds RetCode: 0 Status: OK PackageFile: scDD_1.31.0.tgz PackageFileSize: 1023 KiB