Package: scDD Version: 1.31.0 Command: /Library/Frameworks/R.framework/Resources/bin/R CMD INSTALL scDD StartedAt: 2025-02-12 15:40:43 -0500 (Wed, 12 Feb 2025) EndedAt: 2025-02-12 15:41:29 -0500 (Wed, 12 Feb 2025) EllapsedTime: 46.2 seconds RetCode: 0 Status: OK