Package: scDD Version: 1.31.0 Command: /home/biocbuild/bbs-3.21-bioc/R/bin/R CMD build --keep-empty-dirs --no-resave-data scDD StartedAt: 2025-02-04 19:03:29 -0500 (Tue, 04 Feb 2025) EndedAt: 2025-02-04 19:05:29 -0500 (Tue, 04 Feb 2025) EllapsedTime: 120.1 seconds RetCode: 0 Status: OK PackageFile: scDD_1.31.0.tar.gz PackageFileSize: 846.8 KiB