Package: scDiagnostics Version: 1.1.0 Command: /Library/Frameworks/R.framework/Resources/bin/R CMD build --keep-empty-dirs --no-resave-data scDiagnostics StartedAt: 2025-02-04 17:31:10 -0500 (Tue, 04 Feb 2025) EndedAt: 2025-02-04 17:32:47 -0500 (Tue, 04 Feb 2025) EllapsedTime: 97.1 seconds RetCode: 0 Status: OK PackageFile: scDiagnostics_1.1.0.tar.gz PackageFileSize: 3.62 MiB