Package: scDiagnostics Version: 1.1.0 Command: /Library/Frameworks/R.framework/Resources/bin/R CMD check --install=check:scDiagnostics.install-out.txt --library=/Library/Frameworks/R.framework/Resources/library --no-vignettes --timings scDiagnostics_1.1.0.tar.gz StartedAt: 2025-02-04 21:13:30 -0500 (Tue, 04 Feb 2025) EndedAt: 2025-02-04 21:16:20 -0500 (Tue, 04 Feb 2025) EllapsedTime: 169.9 seconds RetCode: 0 Status: OK CheckDir: scDiagnostics.Rcheck Warnings: 0