Package: scDiagnostics Version: 1.1.0 Command: /Library/Frameworks/R.framework/Resources/bin/R CMD INSTALL scDiagnostics StartedAt: 2025-02-04 15:09:52 -0500 (Tue, 04 Feb 2025) EndedAt: 2025-02-04 15:10:02 -0500 (Tue, 04 Feb 2025) EllapsedTime: 9.9 seconds RetCode: 0 Status: OK