Package: scDiagnostics Version: 1.1.0 Command: /Library/Frameworks/R.framework/Resources/bin/R CMD check --install=check:scDiagnostics.install-out.txt --library=/Library/Frameworks/R.framework/Resources/library --no-vignettes --timings scDiagnostics_1.1.0.tar.gz StartedAt: 2025-02-04 23:04:31 -0500 (Tue, 04 Feb 2025) EndedAt: 2025-02-04 23:12:11 -0500 (Tue, 04 Feb 2025) EllapsedTime: 459.5 seconds RetCode: 0 Status: OK CheckDir: scDiagnostics.Rcheck Warnings: 0