Package: scDiagnostics Version: 1.1.0 Command: /home/biocbuild/bbs-3.21-bioc/R/bin/R CMD build --keep-empty-dirs --no-resave-data scDiagnostics StartedAt: 2025-02-04 19:04:06 -0500 (Tue, 04 Feb 2025) EndedAt: 2025-02-04 19:07:24 -0500 (Tue, 04 Feb 2025) EllapsedTime: 197.2 seconds RetCode: 0 Status: OK PackageFile: scDiagnostics_1.1.0.tar.gz PackageFileSize: 3.619 MiB