Package: scDotPlot Version: 1.1.0 Command: /Library/Frameworks/R.framework/Resources/bin/R CMD INSTALL scDotPlot StartedAt: 2025-02-09 15:28:46 -0500 (Sun, 09 Feb 2025) EndedAt: 2025-02-09 15:29:02 -0500 (Sun, 09 Feb 2025) EllapsedTime: 15.4 seconds RetCode: 0 Status: OK