Package: scDotPlot Version: 1.1.0 Command: /Library/Frameworks/R.framework/Resources/bin/R CMD build --keep-empty-dirs --no-resave-data scDotPlot StartedAt: 2025-02-12 18:11:32 -0500 (Wed, 12 Feb 2025) EndedAt: 2025-02-12 18:13:23 -0500 (Wed, 12 Feb 2025) EllapsedTime: 110.9 seconds RetCode: 0 Status: OK PackageFile: scDotPlot_1.1.0.tar.gz PackageFileSize: 1.954 MiB