Package: scDotPlot Version: 1.1.0 Command: /home/biocbuild/bbs-3.21-bioc/R/bin/R CMD build --keep-empty-dirs --no-resave-data scDotPlot StartedAt: 2025-02-09 19:06:31 -0500 (Sun, 09 Feb 2025) EndedAt: 2025-02-09 19:08:20 -0500 (Sun, 09 Feb 2025) EllapsedTime: 109.1 seconds RetCode: 0 Status: OK PackageFile: scDotPlot_1.1.0.tar.gz PackageFileSize: 1.831 MiB