Package: scDotPlot Version: 1.1.0 Command: rm -rf scDotPlot.buildbin-libdir && mkdir scDotPlot.buildbin-libdir && E:\biocbuild\bbs-3.21-bioc\R\bin\R.exe CMD INSTALL --build --library=scDotPlot.buildbin-libdir scDotPlot_1.1.0.tar.gz StartedAt: 2025-02-10 08:38:45 -0500 (Mon, 10 Feb 2025) EndedAt: 2025-02-10 08:39:34 -0500 (Mon, 10 Feb 2025) EllapsedTime: 49.6 seconds RetCode: 0 Status: OK PackageFile: scDotPlot_1.1.0.zip PackageFileSize: 702.4 KiB