Package: scDotPlot Version: 1.1.0 Command: chmod a+r scDotPlot -R && E:\biocbuild\bbs-3.21-bioc\R\bin\R.exe CMD build --keep-empty-dirs --no-resave-data scDotPlot StartedAt: 2025-02-09 21:25:33 -0500 (Sun, 09 Feb 2025) EndedAt: 2025-02-09 21:27:39 -0500 (Sun, 09 Feb 2025) EllapsedTime: 126.0 seconds RetCode: 0 Status: OK PackageFile: scDotPlot_1.1.0.tar.gz PackageFileSize: 670.2 KiB