Package: scDotPlot Version: 1.1.0 Command: E:\biocbuild\bbs-3.21-bioc\R\bin\R.exe CMD INSTALL scDotPlot StartedAt: 2025-02-09 16:33:04 -0500 (Sun, 09 Feb 2025) EndedAt: 2025-02-09 16:33:54 -0500 (Sun, 09 Feb 2025) EllapsedTime: 50.0 seconds RetCode: 0 Status: OK