Package: scFeatures Version: 1.7.0 Command: /Library/Frameworks/R.framework/Resources/bin/R CMD build --keep-empty-dirs --no-resave-data scFeatures StartedAt: 2025-02-09 17:31:28 -0500 (Sun, 09 Feb 2025) EndedAt: 2025-02-09 17:32:17 -0500 (Sun, 09 Feb 2025) EllapsedTime: 48.5 seconds RetCode: 0 Status: OK PackageFile: scFeatures_1.7.0.tar.gz PackageFileSize: 2.927 MiB