Package: scFeatures Version: 1.7.0 Command: /Library/Frameworks/R.framework/Resources/bin/R CMD INSTALL scFeatures StartedAt: 2025-02-12 15:41:41 -0500 (Wed, 12 Feb 2025) EndedAt: 2025-02-12 15:43:01 -0500 (Wed, 12 Feb 2025) EllapsedTime: 79.5 seconds RetCode: 0 Status: OK