Package: scFeatures Version: 1.7.0 Command: /home/biocbuild/bbs-3.21-bioc/R/bin/R CMD build --keep-empty-dirs --no-resave-data scFeatures StartedAt: 2025-02-09 19:07:19 -0500 (Sun, 09 Feb 2025) EndedAt: 2025-02-09 19:09:24 -0500 (Sun, 09 Feb 2025) EllapsedTime: 124.2 seconds RetCode: 0 Status: OK PackageFile: scFeatures_1.7.0.tar.gz PackageFileSize: 2.949 MiB