Package: scFeatures Version: 1.7.0 Command: E:\biocbuild\bbs-3.21-bioc\R\bin\R.exe CMD check --no-multiarch --install=check:scFeatures.install-out.txt --library=E:\biocbuild\bbs-3.21-bioc\R\library --no-vignettes --timings scFeatures_1.7.0.tar.gz StartedAt: 2025-02-10 05:08:10 -0500 (Mon, 10 Feb 2025) EndedAt: 2025-02-10 05:16:12 -0500 (Mon, 10 Feb 2025) EllapsedTime: 481.8 seconds RetCode: 0 Status: OK CheckDir: scFeatures.Rcheck Warnings: 0