Package: scGPS Version: 1.21.0 Command: rm -rf scGPS.buildbin-libdir && mkdir scGPS.buildbin-libdir && /Users/biocbuild/BBS/utils/build-universal.sh scGPS_1.21.0.tar.gz /Library/Frameworks/R.framework/Resources/bin/R scGPS.buildbin-libdir StartedAt: 2025-02-03 23:05:25 -0500 (Mon, 03 Feb 2025) EndedAt: 2025-02-03 23:05:45 -0500 (Mon, 03 Feb 2025) EllapsedTime: 20.4 seconds RetCode: 0 Status: OK PackageFile: scGPS_1.21.0.tgz PackageFileSize: 2.742 MiB