Package: scGPS Version: 1.21.0 Command: /Library/Frameworks/R.framework/Resources/bin/R CMD build --keep-empty-dirs --no-resave-data scGPS StartedAt: 2025-02-09 17:31:32 -0500 (Sun, 09 Feb 2025) EndedAt: 2025-02-09 17:33:50 -0500 (Sun, 09 Feb 2025) EllapsedTime: 137.5 seconds RetCode: 0 Status: OK PackageFile: scGPS_1.21.0.tar.gz PackageFileSize: 2.034 MiB