Package: scGPS Version: 1.21.0 Command: /home/biocbuild/R/R/bin/R CMD build --keep-empty-dirs --no-resave-data scGPS StartedAt: 2025-01-29 02:04:59 -0000 (Wed, 29 Jan 2025) EndedAt: 2025-01-29 02:07:02 -0000 (Wed, 29 Jan 2025) EllapsedTime: 123.1 seconds RetCode: 1 Status: ERROR PackageFile: None PackageFileSize: NA