Package: scGPS Version: 1.21.0 Command: /home/biocbuild/R/R/bin/R CMD check --install=check:scGPS.install-out.txt --library=/home/biocbuild/R/R/site-library --no-vignettes --timings scGPS_1.21.0.tar.gz StartedAt: 2025-01-24 12:19:37 -0000 (Fri, 24 Jan 2025) EndedAt: 2025-01-24 12:29:15 -0000 (Fri, 24 Jan 2025) EllapsedTime: 577.4 seconds RetCode: 0 Status: OK CheckDir: scGPS.Rcheck Warnings: 0