Package: scGPS Version: 1.21.0 Command: /home/biocbuild/R/R/bin/R CMD INSTALL scGPS StartedAt: 2025-01-29 20:24:42 -0000 (Wed, 29 Jan 2025) EndedAt: 2025-01-29 20:26:04 -0000 (Wed, 29 Jan 2025) EllapsedTime: 81.3 seconds RetCode: 0 Status: OK