Package: scGPS Version: 1.21.0 Command: /Library/Frameworks/R.framework/Resources/bin/R CMD build --keep-empty-dirs --no-resave-data scGPS StartedAt: 2025-02-03 18:15:58 -0500 (Mon, 03 Feb 2025) EndedAt: 2025-02-03 18:23:04 -0500 (Mon, 03 Feb 2025) EllapsedTime: 425.6 seconds RetCode: 0 Status: OK PackageFile: scGPS_1.21.0.tar.gz PackageFileSize: 2.028 MiB