Package: scGPS Version: 1.21.0 Command: /Library/Frameworks/R.framework/Resources/bin/R CMD check --install=check:scGPS.install-out.txt --library=/Library/Frameworks/R.framework/Resources/library --no-vignettes --timings scGPS_1.21.0.tar.gz StartedAt: 2025-02-03 23:07:02 -0500 (Mon, 03 Feb 2025) EndedAt: 2025-02-03 23:15:35 -0500 (Mon, 03 Feb 2025) EllapsedTime: 512.6 seconds RetCode: 0 Status: OK CheckDir: scGPS.Rcheck Warnings: 0