Package: scGPS Version: 1.21.0 Command: /Library/Frameworks/R.framework/Resources/bin/R CMD INSTALL scGPS StartedAt: 2025-02-03 15:41:31 -0500 (Mon, 03 Feb 2025) EndedAt: 2025-02-03 15:42:38 -0500 (Mon, 03 Feb 2025) EllapsedTime: 66.5 seconds RetCode: 0 Status: OK