Package: scGPS Version: 1.21.0 Command: /home/biocbuild/bbs-3.21-bioc/R/bin/R CMD build --keep-empty-dirs --no-resave-data scGPS StartedAt: 2025-02-03 19:16:16 -0500 (Mon, 03 Feb 2025) EndedAt: 2025-02-03 19:22:05 -0500 (Mon, 03 Feb 2025) EllapsedTime: 348.3 seconds RetCode: 0 Status: OK PackageFile: scGPS_1.21.0.tar.gz PackageFileSize: 2.019 MiB