Package: scGPS Version: 1.21.0 Command: /home/biocbuild/bbs-3.21-bioc/R/bin/R CMD INSTALL scGPS StartedAt: 2025-02-03 15:30:46 -0500 (Mon, 03 Feb 2025) EndedAt: 2025-02-03 15:31:40 -0500 (Mon, 03 Feb 2025) EllapsedTime: 53.2 seconds RetCode: 0 Status: OK