Package: scGPS Version: 1.21.0 Command: rm -rf scGPS.buildbin-libdir && mkdir scGPS.buildbin-libdir && E:\biocbuild\bbs-3.21-bioc\R\bin\R.exe CMD INSTALL --build --library=scGPS.buildbin-libdir scGPS_1.21.0.tar.gz StartedAt: 2025-02-10 08:39:02 -0500 (Mon, 10 Feb 2025) EndedAt: 2025-02-10 08:40:30 -0500 (Mon, 10 Feb 2025) EllapsedTime: 88.0 seconds RetCode: 0 Status: OK PackageFile: scGPS_1.21.0.zip PackageFileSize: 2.917 MiB