Package: scGPS Version: 1.21.0 Command: chmod a+r scGPS -R && E:\biocbuild\bbs-3.21-bioc\R\bin\R.exe CMD build --keep-empty-dirs --no-resave-data scGPS StartedAt: 2025-02-09 21:26:11 -0500 (Sun, 09 Feb 2025) EndedAt: 2025-02-09 21:34:36 -0500 (Sun, 09 Feb 2025) EllapsedTime: 505.5 seconds RetCode: 0 Status: OK PackageFile: scGPS_1.21.0.tar.gz PackageFileSize: 1.909 MiB