Package: scHOT Version: 1.19.0 Command: rm -rf scHOT.buildbin-libdir && mkdir scHOT.buildbin-libdir && /Users/biocbuild/BBS/utils/build-universal.sh scHOT_1.19.0.tar.gz /Library/Frameworks/R.framework/Resources/bin/R scHOT.buildbin-libdir StartedAt: 2025-02-09 22:29:47 -0500 (Sun, 09 Feb 2025) EndedAt: 2025-02-09 22:29:59 -0500 (Sun, 09 Feb 2025) EllapsedTime: 12.3 seconds RetCode: 0 Status: OK PackageFile: scHOT_1.19.0.tgz PackageFileSize: 2.7 MiB