Package: scHOT Version: 1.19.0 Command: /Library/Frameworks/R.framework/Resources/bin/R CMD check --install=check:scHOT.install-out.txt --library=/Library/Frameworks/R.framework/Resources/library --no-vignettes --timings scHOT_1.19.0.tar.gz StartedAt: 2025-02-03 21:48:32 -0500 (Mon, 03 Feb 2025) EndedAt: 2025-02-03 21:50:04 -0500 (Mon, 03 Feb 2025) EllapsedTime: 92.0 seconds RetCode: 0 Status: OK CheckDir: scHOT.Rcheck Warnings: 0