Package: scHOT Version: 1.19.0 Command: /Library/Frameworks/R.framework/Resources/bin/R CMD build --keep-empty-dirs --no-resave-data scHOT StartedAt: 2025-02-09 18:19:42 -0500 (Sun, 09 Feb 2025) EndedAt: 2025-02-09 18:22:30 -0500 (Sun, 09 Feb 2025) EllapsedTime: 168.1 seconds RetCode: 0 Status: OK PackageFile: scHOT_1.19.0.tar.gz PackageFileSize: 2.314 MiB