Package: scHOT Version: 1.19.0 Command: /Library/Frameworks/R.framework/Resources/bin/R CMD check --install=check:scHOT.install-out.txt --library=/Library/Frameworks/R.framework/Resources/library --no-vignettes --timings scHOT_1.19.0.tar.gz StartedAt: 2025-02-03 23:07:29 -0500 (Mon, 03 Feb 2025) EndedAt: 2025-02-03 23:12:21 -0500 (Mon, 03 Feb 2025) EllapsedTime: 292.6 seconds RetCode: 0 Status: OK CheckDir: scHOT.Rcheck Warnings: 0