Package: scHOT Version: 1.19.0 Command: rm -rf scHOT.buildbin-libdir && mkdir scHOT.buildbin-libdir && E:\biocbuild\bbs-3.21-bioc\R\bin\R.exe CMD INSTALL --build --library=scHOT.buildbin-libdir scHOT_1.19.0.tar.gz StartedAt: 2025-02-10 08:39:07 -0500 (Mon, 10 Feb 2025) EndedAt: 2025-02-10 08:39:48 -0500 (Mon, 10 Feb 2025) EllapsedTime: 41.4 seconds RetCode: 0 Status: OK PackageFile: scHOT_1.19.0.zip PackageFileSize: 2.249 MiB